Package: miRNAmeConverter Version: 1.26.0 Command: chmod a+r miRNAmeConverter -R && F:\biocbuild\bbs-3.16-bioc\R\bin\R.exe CMD build --keep-empty-dirs --no-resave-data miRNAmeConverter StartedAt: 2023-04-10 19:52:59 -0400 (Mon, 10 Apr 2023) EndedAt: 2023-04-10 19:53:02 -0400 (Mon, 10 Apr 2023) EllapsedTime: 2.7 seconds RetCode: 0 Status: OK PackageFile: miRNAmeConverter_1.26.0.tar.gz PackageFileSize: 313.7 KiB