Package: miRLAB Version: 1.28.0 Command: F:\biocbuild\bbs-3.16-bioc\R\bin\R.exe CMD INSTALL miRLAB StartedAt: 2023-04-10 16:37:02 -0400 (Mon, 10 Apr 2023) EndedAt: 2023-04-10 16:37:44 -0400 (Mon, 10 Apr 2023) EllapsedTime: 42.1 seconds RetCode: 0 Status: OK