Package: miRLAB Version: 1.28.0 Command: F:\biocbuild\bbs-3.16-bioc\R\bin\R.exe CMD check --no-multiarch --install=check:miRLAB.install-out.txt --library=F:\biocbuild\bbs-3.16-bioc\R\library --no-vignettes --timings miRLAB_1.28.0.tar.gz StartedAt: 2023-04-11 03:26:24 -0400 (Tue, 11 Apr 2023) EndedAt: 2023-04-11 03:30:12 -0400 (Tue, 11 Apr 2023) EllapsedTime: 227.9 seconds RetCode: 0 Status: OK CheckDir: miRLAB.Rcheck Warnings: 0