Package: miRLAB Version: 1.28.0 Command: rm -rf miRLAB.buildbin-libdir && mkdir miRLAB.buildbin-libdir && F:\biocbuild\bbs-3.16-bioc\R\bin\R.exe CMD INSTALL --build --library=miRLAB.buildbin-libdir miRLAB_1.28.0.tar.gz StartedAt: 2023-04-11 08:19:18 -0400 (Tue, 11 Apr 2023) EndedAt: 2023-04-11 08:19:58 -0400 (Tue, 11 Apr 2023) EllapsedTime: 40.7 seconds RetCode: 0 Status: OK PackageFile: miRLAB_1.28.0.zip PackageFileSize: 307.4 KiB