Package: miRLAB Version: 1.28.0 Command: /Library/Frameworks/R.framework/Resources/bin/R CMD build --keep-empty-dirs --no-resave-data miRLAB StartedAt: 2023-04-10 17:09:30 -0400 (Mon, 10 Apr 2023) EndedAt: 2023-04-10 17:10:04 -0400 (Mon, 10 Apr 2023) EllapsedTime: 33.9 seconds RetCode: 0 Status: OK PackageFile: miRLAB_1.28.0.tar.gz PackageFileSize: 192.2 KiB