Package: methylMnM Version: 1.36.0 Command: /Library/Frameworks/R.framework/Resources/bin/R CMD build --keep-empty-dirs --no-resave-data methylMnM StartedAt: 2023-04-10 17:05:24 -0400 (Mon, 10 Apr 2023) EndedAt: 2023-04-10 17:06:27 -0400 (Mon, 10 Apr 2023) EllapsedTime: 63.5 seconds RetCode: 0 Status: OK PackageFile: methylMnM_1.36.0.tar.gz PackageFileSize: 8.509 MiB