Package: methylMnM Version: 1.36.0 Command: rm -rf methylMnM.buildbin-libdir && mkdir methylMnM.buildbin-libdir && /Users/biocbuild/BBS/utils/build-universal.sh methylMnM_1.36.0.tar.gz /Library/Frameworks/R.framework/Resources/bin/R methylMnM.buildbin-libdir StartedAt: 2023-04-10 23:51:30 -0400 (Mon, 10 Apr 2023) EndedAt: 2023-04-10 23:51:46 -0400 (Mon, 10 Apr 2023) EllapsedTime: 16.1 seconds RetCode: 0 Status: OK PackageFile: methylMnM_1.36.0.tgz PackageFileSize: 8.86 MiB