Package: metahdep Version: 1.56.0 Command: F:\biocbuild\bbs-3.16-bioc\R\bin\R.exe CMD check --no-multiarch --install=check:metahdep.install-out.txt --library=F:\biocbuild\bbs-3.16-bioc\R\library --no-vignettes --timings metahdep_1.56.0.tar.gz StartedAt: 2023-04-11 03:08:22 -0400 (Tue, 11 Apr 2023) EndedAt: 2023-04-11 03:09:00 -0400 (Tue, 11 Apr 2023) EllapsedTime: 37.5 seconds RetCode: 0 Status: WARNINGS CheckDir: metahdep.Rcheck Warnings: 1