Package: metahdep Version: 1.56.0 Command: chmod a+r metahdep -R && F:\biocbuild\bbs-3.16-bioc\R\bin\R.exe CMD build --keep-empty-dirs --no-resave-data metahdep StartedAt: 2023-04-10 19:40:19 -0400 (Mon, 10 Apr 2023) EndedAt: 2023-04-10 19:40:33 -0400 (Mon, 10 Apr 2023) EllapsedTime: 13.7 seconds RetCode: 0 Status: OK PackageFile: metahdep_1.56.0.tar.gz PackageFileSize: 445.9 KiB