Package: metahdep Version: 1.56.0 Command: /home/biocbuild/bbs-3.16-bioc/R/bin/R CMD build --keep-empty-dirs --no-resave-data metahdep StartedAt: 2023-04-10 17:11:45 -0400 (Mon, 10 Apr 2023) EndedAt: 2023-04-10 17:11:51 -0400 (Mon, 10 Apr 2023) EllapsedTime: 6.6 seconds RetCode: 0 Status: OK PackageFile: metahdep_1.56.0.tar.gz PackageFileSize: 438.2 KiB