Package: metabinR Version: 1.0.0 Command: rm -rf metabinR.buildbin-libdir && mkdir metabinR.buildbin-libdir && F:\biocbuild\bbs-3.16-bioc\R\bin\R.exe CMD INSTALL --build --library=metabinR.buildbin-libdir metabinR_1.0.0.tar.gz StartedAt: 2023-04-11 08:16:30 -0400 (Tue, 11 Apr 2023) EndedAt: 2023-04-11 08:16:41 -0400 (Tue, 11 Apr 2023) EllapsedTime: 11.3 seconds RetCode: 0 Status: OK PackageFile: metabinR_1.0.0.zip PackageFileSize: 4.327 MiB