Package: metaSeq Version: 1.38.0 Command: F:\biocbuild\bbs-3.16-bioc\R\bin\R.exe CMD check --no-multiarch --install=check:metaSeq.install-out.txt --library=F:\biocbuild\bbs-3.16-bioc\R\library --no-vignettes --timings metaSeq_1.38.0.tar.gz StartedAt: 2023-04-11 03:09:22 -0400 (Tue, 11 Apr 2023) EndedAt: 2023-04-11 03:10:35 -0400 (Tue, 11 Apr 2023) EllapsedTime: 73.4 seconds RetCode: 0 Status: OK CheckDir: metaSeq.Rcheck Warnings: 0