Package: metaSeq Version: 1.38.0 Command: chmod a+r metaSeq -R && F:\biocbuild\bbs-3.16-bioc\R\bin\R.exe CMD build --keep-empty-dirs --no-resave-data metaSeq StartedAt: 2023-04-10 19:41:30 -0400 (Mon, 10 Apr 2023) EndedAt: 2023-04-10 19:41:49 -0400 (Mon, 10 Apr 2023) EllapsedTime: 19.8 seconds RetCode: 0 Status: OK PackageFile: metaSeq_1.38.0.tar.gz PackageFileSize: 6.083 MiB