Package: metaSeq Version: 1.38.0 Command: rm -rf metaSeq.buildbin-libdir && mkdir metaSeq.buildbin-libdir && F:\biocbuild\bbs-3.16-bioc\R\bin\R.exe CMD INSTALL --build --library=metaSeq.buildbin-libdir metaSeq_1.38.0.tar.gz StartedAt: 2023-04-11 08:17:03 -0400 (Tue, 11 Apr 2023) EndedAt: 2023-04-11 08:17:20 -0400 (Tue, 11 Apr 2023) EllapsedTime: 16.9 seconds RetCode: 0 Status: OK PackageFile: metaSeq_1.38.0.zip PackageFileSize: 6.067 MiB