Package: metaSeq Version: 1.38.0 Command: /Library/Frameworks/R.framework/Resources/bin/R CMD check --install=check:metaSeq.install-out.txt --library=/Library/Frameworks/R.framework/Resources/library --no-vignettes --timings metaSeq_1.38.0.tar.gz StartedAt: 2023-04-10 21:06:58 -0400 (Mon, 10 Apr 2023) EndedAt: 2023-04-10 21:08:06 -0400 (Mon, 10 Apr 2023) EllapsedTime: 68.4 seconds RetCode: 0 Status: OK CheckDir: metaSeq.Rcheck Warnings: 0