Package: metaSeq Version: 1.38.0 Command: rm -rf metaSeq.buildbin-libdir && mkdir metaSeq.buildbin-libdir && /Users/biocbuild/BBS/utils/build-universal.sh metaSeq_1.38.0.tar.gz /Library/Frameworks/R.framework/Resources/bin/R metaSeq.buildbin-libdir StartedAt: 2023-04-10 23:51:13 -0400 (Mon, 10 Apr 2023) EndedAt: 2023-04-10 23:51:25 -0400 (Mon, 10 Apr 2023) EllapsedTime: 11.4 seconds RetCode: 0 Status: OK PackageFile: metaSeq_1.38.0.tgz PackageFileSize: 6.177 MiB