Package: matter Version: 2.0.1 Command: rm -rf matter.buildbin-libdir && mkdir matter.buildbin-libdir && F:\biocbuild\bbs-3.16-bioc\R\bin\R.exe CMD INSTALL --build --library=matter.buildbin-libdir matter_2.0.1.tar.gz StartedAt: 2023-04-11 08:15:30 -0400 (Tue, 11 Apr 2023) EndedAt: 2023-04-11 08:16:23 -0400 (Tue, 11 Apr 2023) EllapsedTime: 52.7 seconds RetCode: 0 Status: OK PackageFile: matter_2.0.1.zip PackageFileSize: 1.871 MiB