Package: maskBAD Version: 1.42.0 Command: rm -rf maskBAD.buildbin-libdir && mkdir maskBAD.buildbin-libdir && F:\biocbuild\bbs-3.16-bioc\R\bin\R.exe CMD INSTALL --build --library=maskBAD.buildbin-libdir maskBAD_1.42.0.tar.gz StartedAt: 2023-04-11 08:15:13 -0400 (Tue, 11 Apr 2023) EndedAt: 2023-04-11 08:15:48 -0400 (Tue, 11 Apr 2023) EllapsedTime: 34.1 seconds RetCode: 0 Status: OK PackageFile: maskBAD_1.42.0.zip PackageFileSize: 1.414 MiB