Package: maftools Version: 2.14.0 Command: F:\biocbuild\bbs-3.16-bioc\R\bin\R.exe CMD check --no-multiarch --install=check:maftools.install-out.txt --library=F:\biocbuild\bbs-3.16-bioc\R\library --no-vignettes --timings maftools_2.14.0.tar.gz StartedAt: 2023-04-11 02:54:35 -0400 (Tue, 11 Apr 2023) EndedAt: 2023-04-11 02:58:10 -0400 (Tue, 11 Apr 2023) EllapsedTime: 215.4 seconds RetCode: 0 Status: OK CheckDir: maftools.Rcheck Warnings: 0