Package: maftools Version: 2.14.0 Command: rm -rf maftools.buildbin-libdir && mkdir maftools.buildbin-libdir && F:\biocbuild\bbs-3.16-bioc\R\bin\R.exe CMD INSTALL --build --library=maftools.buildbin-libdir maftools_2.14.0.tar.gz StartedAt: 2023-04-11 08:14:36 -0400 (Tue, 11 Apr 2023) EndedAt: 2023-04-11 08:15:15 -0400 (Tue, 11 Apr 2023) EllapsedTime: 39.3 seconds RetCode: 0 Status: OK PackageFile: maftools_2.14.0.zip PackageFileSize: 12.42 MiB