Package: macat Version: 1.72.0 Command: chmod a+r macat -R && F:\biocbuild\bbs-3.16-bioc\R\bin\R.exe CMD build --keep-empty-dirs --no-resave-data macat StartedAt: 2023-04-10 19:32:00 -0400 (Mon, 10 Apr 2023) EndedAt: 2023-04-10 19:32:30 -0400 (Mon, 10 Apr 2023) EllapsedTime: 30.8 seconds RetCode: 0 Status: OK PackageFile: macat_1.72.0.tar.gz PackageFileSize: 1002 KiB