Package: macat Version: 1.72.0 Command: rm -rf macat.buildbin-libdir && mkdir macat.buildbin-libdir && F:\biocbuild\bbs-3.16-bioc\R\bin\R.exe CMD INSTALL --build --library=macat.buildbin-libdir macat_1.72.0.tar.gz StartedAt: 2023-04-11 08:14:26 -0400 (Tue, 11 Apr 2023) EndedAt: 2023-04-11 08:14:52 -0400 (Tue, 11 Apr 2023) EllapsedTime: 25.8 seconds RetCode: 0 Status: OK PackageFile: macat_1.72.0.zip PackageFileSize: 923.2 KiB