Package: macat Version: 1.72.0 Command: rm -rf macat.buildbin-libdir && mkdir macat.buildbin-libdir && /Users/biocbuild/BBS/utils/build-universal.sh macat_1.72.0.tar.gz /Library/Frameworks/R.framework/Resources/bin/R macat.buildbin-libdir StartedAt: 2023-04-10 23:50:00 -0400 (Mon, 10 Apr 2023) EndedAt: 2023-04-10 23:50:21 -0400 (Mon, 10 Apr 2023) EllapsedTime: 20.8 seconds RetCode: 0 Status: OK PackageFile: macat_1.72.0.tgz PackageFileSize: 1.032 MiB