Package: mBPCR Version: 1.52.0 Command: rm -rf mBPCR.buildbin-libdir && mkdir mBPCR.buildbin-libdir && F:\biocbuild\bbs-3.16-bioc\R\bin\R.exe CMD INSTALL --build --library=mBPCR.buildbin-libdir mBPCR_1.52.0.tar.gz StartedAt: 2023-04-11 08:15:43 -0400 (Tue, 11 Apr 2023) EndedAt: 2023-04-11 08:16:19 -0400 (Tue, 11 Apr 2023) EllapsedTime: 36.1 seconds RetCode: 0 Status: OK PackageFile: mBPCR_1.52.0.zip PackageFileSize: 786.1 KiB