Package: mAPKL Version: 1.28.0 Command: /Library/Frameworks/R.framework/Resources/bin/R CMD check --install=check:mAPKL.install-out.txt --library=/Library/Frameworks/R.framework/Resources/library --no-vignettes --timings mAPKL_1.28.0.tar.gz StartedAt: 2023-04-10 20:59:39 -0400 (Mon, 10 Apr 2023) EndedAt: 2023-04-10 21:08:38 -0400 (Mon, 10 Apr 2023) EllapsedTime: 538.9 seconds RetCode: 0 Status: OK CheckDir: mAPKL.Rcheck Warnings: 0