Package: logitT Version: 1.56.0 Command: rm -rf logitT.buildbin-libdir && mkdir logitT.buildbin-libdir && /Users/biocbuild/BBS/utils/build-universal.sh logitT_1.56.0.tar.gz /Library/Frameworks/R.framework/Resources/bin/R logitT.buildbin-libdir StartedAt: 2023-04-10 23:49:42 -0400 (Mon, 10 Apr 2023) EndedAt: 2023-04-10 23:49:49 -0400 (Mon, 10 Apr 2023) EllapsedTime: 6.6 seconds RetCode: 0 Status: OK PackageFile: logitT_1.56.0.tgz PackageFileSize: 299.6 KiB