Package: lmdme Version: 1.40.0 Command: rm -rf lmdme.buildbin-libdir && mkdir lmdme.buildbin-libdir && F:\biocbuild\bbs-3.16-bioc\R\bin\R.exe CMD INSTALL --build --library=lmdme.buildbin-libdir lmdme_1.40.0.tar.gz StartedAt: 2023-04-11 08:13:42 -0400 (Tue, 11 Apr 2023) EndedAt: 2023-04-11 08:14:00 -0400 (Tue, 11 Apr 2023) EllapsedTime: 17.2 seconds RetCode: 0 Status: OK PackageFile: lmdme_1.40.0.zip PackageFileSize: 726.4 KiB