Package: lapmix Version: 1.63.0 Command: rm -rf lapmix.buildbin-libdir && mkdir lapmix.buildbin-libdir && /Users/biocbuild/BBS/utils/build-universal.sh lapmix_1.63.0.tar.gz /Library/Frameworks/R.framework/Resources/bin/R lapmix.buildbin-libdir StartedAt: 2022-07-07 08:17:21 -0400 (Thu, 07 Jul 2022) EndedAt: 2022-07-07 08:17:29 -0400 (Thu, 07 Jul 2022) EllapsedTime: 7.8 seconds RetCode: 0 Status: OK PackageFile: lapmix_1.63.0.tgz PackageFileSize: 376.3 KiB