Package: keggorthology Version: 2.50.0 Command: chmod a+r keggorthology -R && F:\biocbuild\bbs-3.16-bioc\R\bin\R.exe CMD build --keep-empty-dirs --no-resave-data keggorthology StartedAt: 2023-04-10 19:27:52 -0400 (Mon, 10 Apr 2023) EndedAt: 2023-04-10 19:28:22 -0400 (Mon, 10 Apr 2023) EllapsedTime: 29.8 seconds RetCode: 0 Status: OK PackageFile: keggorthology_2.50.0.tar.gz PackageFileSize: 655.6 KiB