Package: kebabs Version: 1.31.0 Command: /Library/Frameworks/R.framework/Resources/bin/R CMD INSTALL kebabs StartedAt: 2022-07-10 19:32:02 -0400 (Sun, 10 Jul 2022) EndedAt: 2022-07-10 19:34:42 -0400 (Sun, 10 Jul 2022) EllapsedTime: 159.5 seconds RetCode: 0 Status: OK