Package: isobar Version: 1.44.0 Command: rm -rf isobar.buildbin-libdir && mkdir isobar.buildbin-libdir && F:\biocbuild\bbs-3.16-bioc\R\bin\R.exe CMD INSTALL --build --library=isobar.buildbin-libdir isobar_1.44.0.tar.gz StartedAt: 2023-04-11 08:11:55 -0400 (Tue, 11 Apr 2023) EndedAt: 2023-04-11 08:12:57 -0400 (Tue, 11 Apr 2023) EllapsedTime: 61.4 seconds RetCode: 0 Status: OK PackageFile: isobar_1.44.0.zip PackageFileSize: 3.735 MiB