Package: isobar Version: 1.44.0 Command: /Library/Frameworks/R.framework/Resources/bin/R CMD check --install=check:isobar.install-out.txt --library=/Library/Frameworks/R.framework/Resources/library --no-vignettes --timings isobar_1.44.0.tar.gz StartedAt: 2023-04-10 20:50:03 -0400 (Mon, 10 Apr 2023) EndedAt: 2023-04-10 20:52:57 -0400 (Mon, 10 Apr 2023) EllapsedTime: 173.6 seconds RetCode: 0 Status: WARNINGS CheckDir: isobar.Rcheck Warnings: 2