Package: isobar Version: 1.44.0 Command: /Library/Frameworks/R.framework/Resources/bin/R CMD build --keep-empty-dirs --no-resave-data isobar StartedAt: 2023-04-10 16:55:18 -0400 (Mon, 10 Apr 2023) EndedAt: 2023-04-10 16:56:45 -0400 (Mon, 10 Apr 2023) EllapsedTime: 86.3 seconds RetCode: 0 Status: OK PackageFile: isobar_1.44.0.tar.gz PackageFileSize: 2.792 MiB