Package: isobar Version: 1.44.0 Command: rm -rf isobar.buildbin-libdir && mkdir isobar.buildbin-libdir && /Users/biocbuild/BBS/utils/build-universal.sh isobar_1.44.0.tar.gz /Library/Frameworks/R.framework/Resources/bin/R isobar.buildbin-libdir StartedAt: 2023-04-10 23:48:54 -0400 (Mon, 10 Apr 2023) EndedAt: 2023-04-10 23:49:35 -0400 (Mon, 10 Apr 2023) EllapsedTime: 40.7 seconds RetCode: 0 Status: OK PackageFile: isobar_1.44.0.tgz PackageFileSize: 3.92 MiB