Package: isobar Version: 1.43.0 Command: /Library/Frameworks/R.framework/Resources/bin/R CMD build --keep-empty-dirs --no-resave-data isobar StartedAt: 2022-07-06 23:08:09 -0400 (Wed, 06 Jul 2022) EndedAt: 2022-07-06 23:09:40 -0400 (Wed, 06 Jul 2022) EllapsedTime: 90.8 seconds RetCode: 0 Status: OK PackageFile: isobar_1.43.0.tar.gz PackageFileSize: 2.792 MiB