Package: interactiveDisplay Version: 1.36.0 Command: rm -rf interactiveDisplay.buildbin-libdir && mkdir interactiveDisplay.buildbin-libdir && /Users/biocbuild/BBS/utils/build-universal.sh interactiveDisplay_1.36.0.tar.gz /Library/Frameworks/R.framework/Resources/bin/R interactiveDisplay.buildbin-libdir StartedAt: 2023-04-10 23:48:23 -0400 (Mon, 10 Apr 2023) EndedAt: 2023-04-10 23:48:54 -0400 (Mon, 10 Apr 2023) EllapsedTime: 31.6 seconds RetCode: 0 Status: OK PackageFile: interactiveDisplay_1.36.0.tgz PackageFileSize: 2.478 MiB