Package: intansv Version: 1.38.0 Command: chmod a+r intansv -R && F:\biocbuild\bbs-3.16-bioc\R\bin\R.exe CMD build --keep-empty-dirs --no-resave-data intansv StartedAt: 2023-04-10 19:22:07 -0400 (Mon, 10 Apr 2023) EndedAt: 2023-04-10 19:23:48 -0400 (Mon, 10 Apr 2023) EllapsedTime: 101.0 seconds RetCode: 0 Status: OK PackageFile: intansv_1.38.0.tar.gz PackageFileSize: 614.1 KiB