Package: intansv Version: 1.38.0 Command: rm -rf intansv.buildbin-libdir && mkdir intansv.buildbin-libdir && F:\biocbuild\bbs-3.16-bioc\R\bin\R.exe CMD INSTALL --build --library=intansv.buildbin-libdir intansv_1.38.0.tar.gz StartedAt: 2023-04-11 08:10:25 -0400 (Tue, 11 Apr 2023) EndedAt: 2023-04-11 08:11:46 -0400 (Tue, 11 Apr 2023) EllapsedTime: 80.8 seconds RetCode: 0 Status: OK PackageFile: intansv_1.38.0.zip PackageFileSize: 701.1 KiB