Package: impute Version: 1.71.0 Command: /Library/Frameworks/R.framework/Resources/bin/R CMD INSTALL impute StartedAt: 2022-07-10 15:06:40 -0400 (Sun, 10 Jul 2022) EndedAt: 2022-07-10 15:06:46 -0400 (Sun, 10 Jul 2022) EllapsedTime: 5.1 seconds RetCode: 0 Status: OK