Package: immunoClust Version: 1.30.0 Command: F:\biocbuild\bbs-3.16-bioc\R\bin\R.exe CMD check --no-multiarch --install=check:immunoClust.install-out.txt --library=F:\biocbuild\bbs-3.16-bioc\R\library --no-vignettes --timings immunoClust_1.30.0.tar.gz StartedAt: 2023-04-11 02:29:11 -0400 (Tue, 11 Apr 2023) EndedAt: 2023-04-11 02:33:31 -0400 (Tue, 11 Apr 2023) EllapsedTime: 260.8 seconds RetCode: 0 Status: OK CheckDir: immunoClust.Rcheck Warnings: 0