Package: immunoClust Version: 1.30.0 Command: rm -rf immunoClust.buildbin-libdir && mkdir immunoClust.buildbin-libdir && F:\biocbuild\bbs-3.16-bioc\R\bin\R.exe CMD INSTALL --build --library=immunoClust.buildbin-libdir immunoClust_1.30.0.tar.gz StartedAt: 2023-04-11 08:10:00 -0400 (Tue, 11 Apr 2023) EndedAt: 2023-04-11 08:10:43 -0400 (Tue, 11 Apr 2023) EllapsedTime: 43.1 seconds RetCode: 0 Status: OK PackageFile: immunoClust_1.30.0.zip PackageFileSize: 4.967 MiB