Package: idr2d Version: 1.12.0 Command: rm -rf idr2d.buildbin-libdir && mkdir idr2d.buildbin-libdir && /Users/biocbuild/BBS/utils/build-universal.sh idr2d_1.12.0.tar.gz /Library/Frameworks/R.framework/Resources/bin/R idr2d.buildbin-libdir StartedAt: 2023-04-10 23:48:01 -0400 (Mon, 10 Apr 2023) EndedAt: 2023-04-10 23:48:23 -0400 (Mon, 10 Apr 2023) EllapsedTime: 21.8 seconds RetCode: 0 Status: OK PackageFile: idr2d_1.12.0.tgz PackageFileSize: 1.602 MiB