Package: idr2d Version: 1.11.0 Command: rm -rf idr2d.buildbin-libdir && mkdir idr2d.buildbin-libdir && /Users/biocbuild/BBS/utils/build-universal.sh idr2d_1.11.0.tar.gz /Library/Frameworks/R.framework/Resources/bin/R idr2d.buildbin-libdir StartedAt: 2022-07-07 08:12:34 -0400 (Thu, 07 Jul 2022) EndedAt: 2022-07-07 08:13:07 -0400 (Thu, 07 Jul 2022) EllapsedTime: 33.6 seconds RetCode: 0 Status: OK PackageFile: idr2d_1.11.0.tgz PackageFileSize: 1.602 MiB