Package: idiogram Version: 1.74.0 Command: rm -rf idiogram.buildbin-libdir && mkdir idiogram.buildbin-libdir && F:\biocbuild\bbs-3.16-bioc\R\bin\R.exe CMD INSTALL --build --library=idiogram.buildbin-libdir idiogram_1.74.0.tar.gz StartedAt: 2023-04-11 08:09:32 -0400 (Tue, 11 Apr 2023) EndedAt: 2023-04-11 08:09:57 -0400 (Tue, 11 Apr 2023) EllapsedTime: 26.0 seconds RetCode: 0 Status: OK PackageFile: idiogram_1.74.0.zip PackageFileSize: 3.683 MiB