Package: iSEEu Version: 1.10.1 Command: /Library/Frameworks/R.framework/Resources/bin/R CMD INSTALL iSEEu StartedAt: 2023-04-10 15:20:54 -0400 (Mon, 10 Apr 2023) EndedAt: 2023-04-10 15:21:33 -0400 (Mon, 10 Apr 2023) EllapsedTime: 39.5 seconds RetCode: 0 Status: OK