Package: iSEEu Version: 1.10.1 Command: /Library/Frameworks/R.framework/Resources/bin/R CMD check --install=check:iSEEu.install-out.txt --library=/Library/Frameworks/R.framework/Resources/library --no-vignettes --timings iSEEu_1.10.1.tar.gz StartedAt: 2023-04-10 20:49:31 -0400 (Mon, 10 Apr 2023) EndedAt: 2023-04-10 20:54:46 -0400 (Mon, 10 Apr 2023) EllapsedTime: 314.5 seconds RetCode: 0 Status: WARNINGS CheckDir: iSEEu.Rcheck Warnings: 1