Package: iSEEu Version: 1.10.1 Command: /Library/Frameworks/R.framework/Resources/bin/R CMD build --keep-empty-dirs --no-resave-data iSEEu StartedAt: 2023-04-10 16:55:11 -0400 (Mon, 10 Apr 2023) EndedAt: 2023-04-10 16:56:55 -0400 (Mon, 10 Apr 2023) EllapsedTime: 104.4 seconds RetCode: 0 Status: OK PackageFile: iSEEu_1.10.1.tar.gz PackageFileSize: 1.353 MiB