Package: iChip Version: 1.52.0 Command: F:\biocbuild\bbs-3.16-bioc\R\bin\R.exe CMD check --no-multiarch --install=check:iChip.install-out.txt --library=F:\biocbuild\bbs-3.16-bioc\R\library --no-vignettes --timings iChip_1.52.0.tar.gz StartedAt: 2023-04-11 02:25:54 -0400 (Tue, 11 Apr 2023) EndedAt: 2023-04-11 02:26:37 -0400 (Tue, 11 Apr 2023) EllapsedTime: 42.9 seconds RetCode: 0 Status: OK CheckDir: iChip.Rcheck Warnings: 0