Package: iChip Version: 1.52.0 Command: chmod a+r iChip -R && F:\biocbuild\bbs-3.16-bioc\R\bin\R.exe CMD build --keep-empty-dirs --no-resave-data iChip StartedAt: 2023-04-10 19:17:18 -0400 (Mon, 10 Apr 2023) EndedAt: 2023-04-10 19:18:13 -0400 (Mon, 10 Apr 2023) EllapsedTime: 55.1 seconds RetCode: 0 Status: OK PackageFile: iChip_1.52.0.tar.gz PackageFileSize: 1.589 MiB