Package: iChip Version: 1.52.0 Command: rm -rf iChip.buildbin-libdir && mkdir iChip.buildbin-libdir && F:\biocbuild\bbs-3.16-bioc\R\bin\R.exe CMD INSTALL --build --library=iChip.buildbin-libdir iChip_1.52.0.tar.gz StartedAt: 2023-04-11 08:09:23 -0400 (Tue, 11 Apr 2023) EndedAt: 2023-04-11 08:09:51 -0400 (Tue, 11 Apr 2023) EllapsedTime: 28.0 seconds RetCode: 0 Status: OK PackageFile: iChip_1.52.0.zip PackageFileSize: 1.822 MiB